BEGIN:VCALENDAR
VERSION:2.0
PRODID:-//Sabre//Sabre VObject 3.5.3//EN
CALSCALE:GREGORIAN
BEGIN:VTIMEZONE
TZID:Europe/London
BEGIN:STANDARD
TZNAME:GMT
DTSTART:19701025T020000
RRULE:FREQ=YEARLY;BYMONTH=10;BYDAY=-1SU
TZOFFSETFROM:+0100
TZOFFSETTO:+0000
END:STANDARD
BEGIN:DAYLIGHT
TZNAME:BST
DTSTART:19700329T010000
RRULE:FREQ=YEARLY;BYMONTH=3;BYDAY=-1SU
TZOFFSETFROM:+0000
TZOFFSETTO:+0100
END:DAYLIGHT
END:VTIMEZONE
BEGIN:VEVENT
UID:event_310275@palacesingers.co.uk
DTSTART;TZID=Europe/London:20260711T193000
DTEND;TZID=Europe/London:20260711T220000
SUMMARY:British Weather! - Summer Concert
DESCRIPTION:For full event details\, visit: https://www.palacesingers.co.uk
 /dbpage.php?pg=view&dbase=events&id=310275
LOCATION:Tamworth Street\, Lichfield\, WS13 6JJ
URL:https://www.palacesingers.co.uk/dbpage.php?pg=view&dbase=events&id=3102
 75
END:VEVENT
END:VCALENDAR
